BEGIN:VCALENDAR
VERSION:2.0
PRODID:-//ChamberMaster//Event Calendar 2.0//EN
METHOD:PUBLISH
X-PUBLISHED-TTL:P3D
REFRESH-INTERVAL:P3D
CALSCALE:GREGORIAN
BEGIN:VEVENT
DTSTART:20160406T153000Z
DTEND:20160406T163000Z
X-MICROSOFT-CDO-ALLDAYEVENT:FALSE
SUMMARY:It's spring time!
DESCRIPTION:Come celebrate spring! Help plant seeds for the gardens at the library during story time. Bring your green thumb and get ready to get messy. All ages are invited to attend.
X-ALT-DESC;FMTTYPE=text/html:Come celebrate spring! Help plant seeds for the gardens at the library during story time. Bring your green thumb and get ready to get messy. All ages are invited to attend.
LOCATION:Livingston Municipal Library 707 N. Tyler Ave.
UID:e.1105.3355
SEQUENCE:3
DTSTAMP:20260425T153516Z
URL:http://polkchamber.chambermaster.com/events/details/it-s-spring-time-04-06-2016-3355
END:VEVENT

END:VCALENDAR
